BEGIN:VCALENDAR
VERSION:2.0
PRODID:-//Sharon Hill Borough - ECPv6.15.20//NONSGML v1.0//EN
CALSCALE:GREGORIAN
METHOD:PUBLISH
X-ORIGINAL-URL:https://sharonhillboro.com
X-WR-CALDESC:Events for Sharon Hill Borough
REFRESH-INTERVAL;VALUE=DURATION:PT1H
X-Robots-Tag:noindex
X-PUBLISHED-TTL:PT1H
BEGIN:VTIMEZONE
TZID:America/New_York
BEGIN:DAYLIGHT
TZOFFSETFROM:-0500
TZOFFSETTO:-0400
TZNAME:EDT
DTSTART:20220313T070000
END:DAYLIGHT
BEGIN:STANDARD
TZOFFSETFROM:-0400
TZOFFSETTO:-0500
TZNAME:EST
DTSTART:20221106T060000
END:STANDARD
BEGIN:DAYLIGHT
TZOFFSETFROM:-0500
TZOFFSETTO:-0400
TZNAME:EDT
DTSTART:20230312T070000
END:DAYLIGHT
BEGIN:STANDARD
TZOFFSETFROM:-0400
TZOFFSETTO:-0500
TZNAME:EST
DTSTART:20231105T060000
END:STANDARD
BEGIN:DAYLIGHT
TZOFFSETFROM:-0500
TZOFFSETTO:-0400
TZNAME:EDT
DTSTART:20240310T070000
END:DAYLIGHT
BEGIN:STANDARD
TZOFFSETFROM:-0400
TZOFFSETTO:-0500
TZNAME:EST
DTSTART:20241103T060000
END:STANDARD
END:VTIMEZONE
BEGIN:VEVENT
DTSTART;TZID=America/New_York:20230927T180000
DTEND;TZID=America/New_York:20230927T190000
DTSTAMP:20260421T225302
CREATED:20230921T142222Z
LAST-MODIFIED:20230921T142241Z
UID:3926-1695837600-1695841200@sharonhillboro.com
SUMMARY:Free Mid-Week Yoga Classes
DESCRIPTION:Presented by Sharon Hill Art and Culture Commission \nFREE Wednesday Weekly Classes with Certified Yoga Instructor AUSET 4 YOGA\nSeptember 6 through October 11 \n*BRING YOUR YOGA MAT\n6pm – 7pm\n250 Sharon Ave\, Sharon Hill PA 19079
URL:https://sharonhillboro.com/event/free-mid-week-yoga-classes-9-27-23/
LOCATION:Sharon Hill Borough Hall\, 250 Sharon Avenue\, Sharon Hill\, PA\, 19079\, United States
CATEGORIES:Sharon Hill Art and Culture Commission
ATTACH;FMTTYPE=image/jpeg:https://sharonhillboro.com/wp-content/uploads/mwyoga.jpg
END:VEVENT
END:VCALENDAR