BEGIN:VCALENDAR
VERSION:2.0
PRODID:-//Sharon Hill Borough - ECPv6.15.20//NONSGML v1.0//EN
CALSCALE:GREGORIAN
METHOD:PUBLISH
X-WR-CALNAME:Sharon Hill Borough
X-ORIGINAL-URL:https://sharonhillboro.com
X-WR-CALDESC:Events for Sharon Hill Borough
REFRESH-INTERVAL;VALUE=DURATION:PT1H
X-Robots-Tag:noindex
X-PUBLISHED-TTL:PT1H
BEGIN:VTIMEZONE
TZID:America/New_York
BEGIN:DAYLIGHT
TZOFFSETFROM:-0500
TZOFFSETTO:-0400
TZNAME:EDT
DTSTART:20240310T070000
END:DAYLIGHT
BEGIN:STANDARD
TZOFFSETFROM:-0400
TZOFFSETTO:-0500
TZNAME:EST
DTSTART:20241103T060000
END:STANDARD
BEGIN:DAYLIGHT
TZOFFSETFROM:-0500
TZOFFSETTO:-0400
TZNAME:EDT
DTSTART:20250309T070000
END:DAYLIGHT
BEGIN:STANDARD
TZOFFSETFROM:-0400
TZOFFSETTO:-0500
TZNAME:EST
DTSTART:20251102T060000
END:STANDARD
BEGIN:DAYLIGHT
TZOFFSETFROM:-0500
TZOFFSETTO:-0400
TZNAME:EDT
DTSTART:20260308T070000
END:DAYLIGHT
BEGIN:STANDARD
TZOFFSETFROM:-0400
TZOFFSETTO:-0500
TZNAME:EST
DTSTART:20261101T060000
END:STANDARD
END:VTIMEZONE
BEGIN:VEVENT
DTSTART;TZID=America/New_York:20251221T123000
DTEND;TZID=America/New_York:20251221T143000
DTSTAMP:20260419T204710
CREATED:20251208T133607Z
LAST-MODIFIED:20251210T133533Z
UID:6451-1766320200-1766327400@sharonhillboro.com
SUMMARY:Breakfast With Santa
DESCRIPTION:Open to Sharon Hill Borough residents ages 12 and under. Registration required.\nSharon Hill Recreation Department and Councilman Rodney Hill present Breakfast with Santa at Sharon Hill Borough Hall on Sunday\, December 21 from 12:30 to 2:30 PM. \nDonations of canned foods\, new toys\, and unused clothing are also needed and can be dropped off at Borough Hall through December 16th. \nREGISTER TO ATTEND\nPlease note: Due to limited space\, only children who are registered will be allowed in the event. \n  \n 
URL:https://sharonhillboro.com/event/breakfast-with-santa-2025/
LOCATION:Sharon Hill Borough Hall\, 250 Sharon Avenue\, Sharon Hill\, PA\, 19079\, United States
CATEGORIES:Sharon Hill Recreation
ATTACH;FMTTYPE=image/jpeg:https://sharonhillboro.com/wp-content/uploads/BreakfastSanta2025-v2.jpg
END:VEVENT
END:VCALENDAR