BEGIN:VCALENDAR
VERSION:2.0
PRODID:-//Sharon Hill Borough - ECPv6.15.20//NONSGML v1.0//EN
CALSCALE:GREGORIAN
METHOD:PUBLISH
X-WR-CALNAME:Sharon Hill Borough
X-ORIGINAL-URL:https://sharonhillboro.com
X-WR-CALDESC:Events for Sharon Hill Borough
REFRESH-INTERVAL;VALUE=DURATION:PT1H
X-Robots-Tag:noindex
X-PUBLISHED-TTL:PT1H
BEGIN:VTIMEZONE
TZID:America/New_York
BEGIN:DAYLIGHT
TZOFFSETFROM:-0500
TZOFFSETTO:-0400
TZNAME:EDT
DTSTART:20220313T070000
END:DAYLIGHT
BEGIN:STANDARD
TZOFFSETFROM:-0400
TZOFFSETTO:-0500
TZNAME:EST
DTSTART:20221106T060000
END:STANDARD
BEGIN:DAYLIGHT
TZOFFSETFROM:-0500
TZOFFSETTO:-0400
TZNAME:EDT
DTSTART:20230312T070000
END:DAYLIGHT
BEGIN:STANDARD
TZOFFSETFROM:-0400
TZOFFSETTO:-0500
TZNAME:EST
DTSTART:20231105T060000
END:STANDARD
BEGIN:DAYLIGHT
TZOFFSETFROM:-0500
TZOFFSETTO:-0400
TZNAME:EDT
DTSTART:20240310T070000
END:DAYLIGHT
BEGIN:STANDARD
TZOFFSETFROM:-0400
TZOFFSETTO:-0500
TZNAME:EST
DTSTART:20241103T060000
END:STANDARD
BEGIN:DAYLIGHT
TZOFFSETFROM:-0500
TZOFFSETTO:-0400
TZNAME:EDT
DTSTART:20250309T070000
END:DAYLIGHT
BEGIN:STANDARD
TZOFFSETFROM:-0400
TZOFFSETTO:-0500
TZNAME:EST
DTSTART:20251102T060000
END:STANDARD
BEGIN:DAYLIGHT
TZOFFSETFROM:-0500
TZOFFSETTO:-0400
TZNAME:EDT
DTSTART:20260308T070000
END:DAYLIGHT
BEGIN:STANDARD
TZOFFSETFROM:-0400
TZOFFSETTO:-0500
TZNAME:EST
DTSTART:20261101T060000
END:STANDARD
BEGIN:DAYLIGHT
TZOFFSETFROM:-0500
TZOFFSETTO:-0400
TZNAME:EDT
DTSTART:20270314T070000
END:DAYLIGHT
BEGIN:STANDARD
TZOFFSETFROM:-0400
TZOFFSETTO:-0500
TZNAME:EST
DTSTART:20271107T060000
END:STANDARD
END:VTIMEZONE
BEGIN:VEVENT
DTSTART;TZID=America/New_York:20260228T190000
DTEND;TZID=America/New_York:20260228T210000
DTSTAMP:20260425T122301
CREATED:20260203T151851Z
LAST-MODIFIED:20260203T151851Z
UID:6633-1772305200-1772312400@sharonhillboro.com
SUMMARY:Black History Month Spoken Word
DESCRIPTION:Sharon Hill Public Library presents Black History Month Spoken Word on Saturday\, February 28 from 7 pm to 9 pm. Refreshments will be served. \nSaturday\, Feb. 28 | 7 – 9pm\nSharon Hill Public Library\n250 Sharon Ave\, Sharon Hill\, PA 19079 \nPerformers to include: \n\nAlicia\nTaikeya J\nV-Lynn\nDesiree Unshrunk\nSweet Sadie\n\nFor more information please contact the library at 610-586-3993. \n 
URL:https://sharonhillboro.com/event/black-history-month-spoken-word/
LOCATION:Sharon Hill Public Library\, 246 Sharon Avenue\, Sharon Hill\, PA\, 19079\, United States
CATEGORIES:Sharon Hill Public Library
ATTACH;FMTTYPE=image/jpeg:https://sharonhillboro.com/wp-content/uploads/spokenflyer.jpg
END:VEVENT
BEGIN:VEVENT
DTSTART;TZID=America/New_York:20260131T120000
DTEND;TZID=America/New_York:20260131T150000
DTSTAMP:20260425T122301
CREATED:20260130T124239Z
LAST-MODIFIED:20260130T124322Z
UID:6604-1769860800-1769871600@sharonhillboro.com
SUMMARY:Health & Wellness Community Day
DESCRIPTION:Sharon Hill Public Library will host a Health & Welfare Community Day on Saturday\, January 31 from Noon – 3:00 PM \nFREE SCREENINGS & HEALTH EDUCATION \nEveryone Welcome! \nLearn • Connect • Stay Healthy \n\nBlood Pressure Checks\nHypertension & Kidney Info\nWellness Resources\nMeet Our Providers:\nChi Eta Phi Nursing Sorority\nKidney Health Providers\nYoga Instructor\nRegistered Dietician\nPharmacist\n\n246 Sharon Ave\, Sharon Hill\, PA 19079\nCall: (610) 586-3993 for more information \n  \n  \n 
URL:https://sharonhillboro.com/event/health-wellness-community-day/
LOCATION:Sharon Hill Public Library\, 246 Sharon Avenue\, Sharon Hill\, PA\, 19079\, United States
CATEGORIES:Sharon Hill Public Library
ATTACH;FMTTYPE=image/jpeg:https://sharonhillboro.com/wp-content/uploads/hwcommunity.jpg
END:VEVENT
BEGIN:VEVENT
DTSTART;TZID=America/New_York:20251210T120000
DTEND;TZID=America/New_York:20251210T130000
DTSTAMP:20260425T122301
CREATED:20251106T172812Z
LAST-MODIFIED:20251119T140345Z
UID:6312-1765368000-1765371600@sharonhillboro.com
SUMMARY:Second Annual Jean's Christmas Tea
DESCRIPTION:Second Annual Jean’s Christmas Tea at Sharon Hill Public Library \nWednesday\, December 10\, 2025 at 12:00 pm \nMusical guests: Music Magic featuring Irene & Andy \nwith Special Guest Author and Sharon Hill Councilmember Elect Dr. Tammy Fleming \nRSVP by November 26th by calling 610-586-8200 \nCome out for a classic afternoon tea full of holiday cheer! \nJean Shiber was a pillar in Sharon Hill for many years. She was a founding member of the Sharon Hill Historical Society and organized the yearly Christmas Tea held at Borough Hall. Jean believed in bringing people together and spreading cheer. This annual Christmas Tea continues her legacy. We look forward to seeing you! \n 
URL:https://sharonhillboro.com/event/second-annual-jeans-christmas-tea/
LOCATION:Sharon Hill Public Library\, 246 Sharon Avenue\, Sharon Hill\, PA\, 19079\, United States
CATEGORIES:Sharon Hill Public Library
ATTACH;FMTTYPE=image/jpeg:https://sharonhillboro.com/wp-content/uploads/xmastea2925.jpg
END:VEVENT
BEGIN:VEVENT
DTSTART;TZID=America/New_York:20251103T110000
DTEND;TZID=America/New_York:20251103T130000
DTSTAMP:20260425T122301
CREATED:20251016T174045Z
LAST-MODIFIED:20251028T202020Z
UID:6280-1762167600-1762174800@sharonhillboro.com
SUMMARY:Book Signing with Melba Moore
DESCRIPTION:https://sharonhillboro.com/wp-content/uploads/melba_moore_shpl.mp4\nJoin us for a special event with legendary Tony Award-winning\, Grammy-nominated icon Melba Moore as she launches and signs her inspiring new book: This Is It: Marvelous … & Getting Better \nMeet Melba in person\, hear her powerful story\, and get your copy signed! \nMelba Moore has commanded stages around the world and conquered Broadway in unforgettable roles: \n\nHAIR (1967)\nPURLIE (1970)\nFirst Black woman to play Fantine in LES MISÉRABLES (1995)\n\nDuring the pandemic\, she reflected and created new music with her sweetest collaborator and greatest creation\, her daughter Charli Huggins\, who also heads The Gallery Entertainment\, her own independent label. \nBooks will be available for purchase and signing at the event.  Don’t miss this chance to celebrate a living legend! \nSharon Hill Public Library  – 256 Sharon Avenue · Sharon Hill\, PA 19079 \n610-586-3993 · sharonhill@delcolibraries.org \n  \n \n  \n  \n 
URL:https://sharonhillboro.com/event/book-signing-with-melba-moore/
LOCATION:Sharon Hill Public Library\, 246 Sharon Avenue\, Sharon Hill\, PA\, 19079\, United States
CATEGORIES:Sharon Hill Public Library
ATTACH;FMTTYPE=image/jpeg:https://sharonhillboro.com/wp-content/uploads/book-signing-1.jpg
END:VEVENT
BEGIN:VEVENT
DTSTART;TZID=America/New_York:20251014T110000
DTEND;TZID=America/New_York:20251014T170000
DTSTAMP:20260425T122301
CREATED:20251002T132433Z
LAST-MODIFIED:20251002T132433Z
UID:6229-1760439600-1760461200@sharonhillboro.com
SUMMARY:Community Health & Wellness Event
DESCRIPTION:Hosted by Councilman Rodney Hill \nJoin us for an informative and fun day dedicated to health\, education\, community!\nPresented by licensed insurance agent Daquan Fudge \n\nMEDICARE vs MEDICAID\nEDUCATION\nCOMMUNITY ACTIVITIES\nLIGHT REFRESHMENTS\n\nFun\, engaging & community-centered! \nConnect with your neighbors and experts! \nTwo Time Slots: 11:00 AM – 2:00 PM and 2:30 PM – 5:00 PM \n  \n 
URL:https://sharonhillboro.com/event/community-health-wellness-event/
LOCATION:Sharon Hill Public Library\, 246 Sharon Avenue\, Sharon Hill\, PA\, 19079\, United States
CATEGORIES:Sharon Hill Public Library
ATTACH;FMTTYPE=image/jpeg:https://sharonhillboro.com/wp-content/uploads/healthandwellness.jpg
END:VEVENT
BEGIN:VEVENT
DTSTART;TZID=America/New_York:20241214T130000
DTEND;TZID=America/New_York:20241214T150000
DTSTAMP:20260425T122301
CREATED:20241114T171652Z
LAST-MODIFIED:20241114T171652Z
UID:5243-1734181200-1734188400@sharonhillboro.com
SUMMARY:Senior Luncheon
DESCRIPTION:enior residents of Sharon Hill Borough are invited to attend the annual holiday luncheon at the Oaks Ballroom in Glenolden. \nSaturday\, December 14\, at 1:00 pm\nOaks Ballroom\n511 W. Oak Lane\, Glenolden\, PA 19036\nRSVP Required – call 610-586-8200 or email officeadmin@sharonhillbororo.com\n \n 
URL:https://sharonhillboro.com/event/senior-luncheon/
LOCATION:Oaks Ballroom\, 511 W. Oak Lane\, Glenolden\, PA\, 19036\, United States
CATEGORIES:Sharon Hill Public Library
ATTACH;FMTTYPE=image/jpeg:https://sharonhillboro.com/wp-content/uploads/Senior-Luncheon-2024.jpg
END:VEVENT
BEGIN:VEVENT
DTSTART;TZID=America/New_York:20241211T120000
DTEND;TZID=America/New_York:20241211T140000
DTSTAMP:20260425T122301
CREATED:20241114T171546Z
LAST-MODIFIED:20241114T171546Z
UID:5239-1733918400-1733925600@sharonhillboro.com
SUMMARY:Jean's Christmas Tea
DESCRIPTION:Jean’s Christmas Tea at Sharon Hill Public Library \nWednesday\, December 11\, 2024 at 12:00 pm \nRSVP by November 27th by calling 610-586-8200 \nCome out for a classic afternoon tea full of holiday cheer! \nJean Shiber was a pillar in Sharon Hill for many years. She was a founding member of the Sharon Hill Historical Society and organized the yearly Christmas Tea held at Borough Hall. Jean believed in bringing people together and spreading cheer. This year\, her family is happy to host the 2024 Sharon Hill Christmas Tea to continue her legacy. We look forward to seeing you!
URL:https://sharonhillboro.com/event/jeans-christmas-tea/
LOCATION:Sharon Hill Public Library\, 246 Sharon Avenue\, Sharon Hill\, PA\, 19079\, United States
CATEGORIES:Sharon Hill Public Library
ATTACH;FMTTYPE=image/jpeg:https://sharonhillboro.com/wp-content/uploads/Christmas-Tea.jpg
END:VEVENT
BEGIN:VEVENT
DTSTART;TZID=America/New_York:20240928T110000
DTEND;TZID=America/New_York:20240928T120000
DTSTAMP:20260425T122301
CREATED:20240919T153521Z
LAST-MODIFIED:20240919T153521Z
UID:5028-1727521200-1727524800@sharonhillboro.com
SUMMARY:The Magic of Multicultural Books with Magician/Balloonist Ed Schmitt
DESCRIPTION:
URL:https://sharonhillboro.com/event/the-magic-of-multicultural-books-with-magician-balloonist-ed-schmitt/
LOCATION:Sharon Hill Public Library\, 246 Sharon Avenue\, Sharon Hill\, PA\, 19079\, United States
CATEGORIES:Sharon Hill Public Library
ATTACH;FMTTYPE=image/jpeg:https://sharonhillboro.com/wp-content/uploads/edschmitt.jpg
END:VEVENT
BEGIN:VEVENT
DTSTART;TZID=America/New_York:20240928T100000
DTEND;TZID=America/New_York:20240928T150000
DTSTAMP:20260425T122301
CREATED:20240919T152910Z
LAST-MODIFIED:20240919T153027Z
UID:5026-1727517600-1727535600@sharonhillboro.com
SUMMARY:Sharon Hill Public Library Annual Open House
DESCRIPTION:Sharon Hill Public Library Trustees and Friends Group Presents the Annual Open House \nSaturday\, September 28\, 2024 10:00 am-3:00 pm \nJoin us for a day full of smooth jazz music\, vendors\, author pavilions and refreshments through a catering service. \nSharon Hill Public Library\n246 Sharon Avenue\nSharon Hill\, PA 19079 \n 
URL:https://sharonhillboro.com/event/sharon-hill-public-library-annual-open-house/
LOCATION:Sharon Hill Public Library\, 246 Sharon Avenue\, Sharon Hill\, PA\, 19079\, United States
CATEGORIES:Sharon Hill Public Library
ATTACH;FMTTYPE=image/jpeg:https://sharonhillboro.com/wp-content/uploads/shb_cult_square.jpg
END:VEVENT
BEGIN:VEVENT
DTSTART;TZID=America/New_York:20240308T190000
DTEND;TZID=America/New_York:20240308T203000
DTSTAMP:20260425T122301
CREATED:20240305T185422Z
LAST-MODIFIED:20240305T185422Z
UID:4501-1709924400-1709929800@sharonhillboro.com
SUMMARY:Family Magic Show featuring Professor G and the Steam Machine
DESCRIPTION:Friends of the Sharon Hill Public Library present a family magic show featuring Professor G and the Steam Machine. \nThe library is located at 246 Sharon Avenue\, Sharon Hill\, PA 19079 \nFor more information please contact the library at 610-586-3993 or email sharonhill@delcolibraries.org \n 
URL:https://sharonhillboro.com/event/family-magic-show-featuring-professor-g-and-the-steam-machine/
LOCATION:Sharon Hill Public Library\, 246 Sharon Avenue\, Sharon Hill\, PA\, 19079\, United States
CATEGORIES:Sharon Hill Public Library
ATTACH;FMTTYPE=image/jpeg:https://sharonhillboro.com/wp-content/uploads/profg.jpg
END:VEVENT
BEGIN:VEVENT
DTSTART;TZID=America/New_York:20240217T110000
DTEND;TZID=America/New_York:20240217T130000
DTSTAMP:20260425T122301
CREATED:20240202T192306Z
LAST-MODIFIED:20240202T192426Z
UID:4414-1708167600-1708174800@sharonhillboro.com
SUMMARY:Junior College Development Workshop with Dr. Veronica Carey
DESCRIPTION:Featuring Dr. Veronica Carey\, Assistant Dean at Drexel University \nSaturday\, February 17th\n11 am -1 pm \nDr. Carey will be explaining her book Frame Your Degree and helping students interested in getting a degree do so without pain. Dr. Carey wants to teach students that going to college doesn’t have to be so financially and emotionally burdening. \nSnacks and Beverages Provided \nThe first 15 students to attend receive a free signed copy of Dr. Carey’s book.
URL:https://sharonhillboro.com/event/junior-college-development-workshop-with-dr-veronica-carey/
LOCATION:Sharon Hill Public Library\, 246 Sharon Avenue\, Sharon Hill\, PA\, 19079\, United States
CATEGORIES:Sharon Hill Public Library
ATTACH;FMTTYPE=image/jpeg:https://sharonhillboro.com/wp-content/uploads/vcAREY.jpg
END:VEVENT
BEGIN:VEVENT
DTSTART;TZID=America/New_York:20231226T160000
DTEND;TZID=America/New_York:20231226T170000
DTSTAMP:20260425T122301
CREATED:20231206T150342Z
LAST-MODIFIED:20231206T150434Z
UID:4226-1703606400-1703610000@sharonhillboro.com
SUMMARY:Nutrition Links Educational Program
DESCRIPTION:The Sharon Hill Public Library has partnered with Penn State Nutrition Links.  \nThe Nutrition Links Program offers free nutrition education programs to participants eligible for public assistance to develop the knowledge and skills necessary to achieve a healthful diet on a limited budget. \nClasses include hands-on activities and cooking demonstrations to reinforce the learning process.  \nJoin us on December 12th and 26th at 4 p.m. to participate! \nFor more information please call 610-586-3993
URL:https://sharonhillboro.com/event/nutrition-links-educational-program-dec-26-23/
LOCATION:Sharon Hill Public Library\, 246 Sharon Avenue\, Sharon Hill\, PA\, 19079\, United States
CATEGORIES:Sharon Hill Public Library
ATTACH;FMTTYPE=image/jpeg:https://sharonhillboro.com/wp-content/uploads/nutritionlinks.jpg
END:VEVENT
BEGIN:VEVENT
DTSTART;TZID=America/New_York:20231218T103000
DTEND;TZID=America/New_York:20231218T111500
DTSTAMP:20260425T122301
CREATED:20231206T191442Z
LAST-MODIFIED:20231206T191503Z
UID:4235-1702895400-1702898100@sharonhillboro.com
SUMMARY:Children's Story Time featuring author Terrenny Robinson
DESCRIPTION:Join us for Children’s Story Time at the Sharon Hill Public Library featuring Terrenny Robinson\, co-author of Peyton the Great and the Pink Gloves!\nSharon Hill Public Library\n246 Sharon Ave\, Sharon Hill\, PA 19079\nFor more information please contact 610-586-3993 | sharonhill@delcolibraries.org \n 
URL:https://sharonhillboro.com/event/library-story-time-featuring-author-terrenny-robinson/
LOCATION:Sharon Hill Public Library\, 246 Sharon Avenue\, Sharon Hill\, PA\, 19079\, United States
CATEGORIES:Sharon Hill Public Library
ATTACH;FMTTYPE=image/jpeg:https://sharonhillboro.com/wp-content/uploads/shlstory.jpg
END:VEVENT
BEGIN:VEVENT
DTSTART;TZID=America/New_York:20231212T160000
DTEND;TZID=America/New_York:20231212T170000
DTSTAMP:20260425T122301
CREATED:20231206T150157Z
LAST-MODIFIED:20231206T150456Z
UID:4223-1702396800-1702400400@sharonhillboro.com
SUMMARY:Nutrition Links Educational Program
DESCRIPTION:The Sharon Hill Public Library has partnered with Penn State Nutrition Links.  \nThe Nutrition Links Program offers free nutrition education programs to participants eligible for public assistance to develop the knowledge and skills necessary to achieve a healthful diet on a limited budget. \nClasses include hands-on activities and cooking demonstrations to reinforce the learning process.  \nJoin us on December 12th and 26th at 4 p.m. to participate! \nFor more information please call 610-586-3993
URL:https://sharonhillboro.com/event/nutrition-links-educational-program-dec-12-23/
LOCATION:Sharon Hill Public Library\, 246 Sharon Avenue\, Sharon Hill\, PA\, 19079\, United States
CATEGORIES:Sharon Hill Public Library
ATTACH;FMTTYPE=image/jpeg:https://sharonhillboro.com/wp-content/uploads/nutritionlinks.jpg
END:VEVENT
BEGIN:VEVENT
DTSTART;TZID=America/New_York:20230617T120000
DTEND;TZID=America/New_York:20230617T160000
DTSTAMP:20260425T122301
CREATED:20230602T154718Z
LAST-MODIFIED:20230612T130006Z
UID:3638-1687003200-1687017600@sharonhillboro.com
SUMMARY:Juneteenth Celebration and Ceremonies -  Family Reunion Weekend
DESCRIPTION:Presented by Sharon Hill Borough in partnership with the Sharon Hill Public Library and the Sharon Hill Art and Culture Commission \nJuneteenth Celebration at Borough Hall and Library\nSaturday\, June 17\, Noon – 4 pm \n\nOpening Ceremony\nFlag Raising and Performances\nHot Dogs / Burgers / Pretzels / Fish Fry\nArt\nPerformances\nGames\nLine Dancing\nFace Painting\n\n 
URL:https://sharonhillboro.com/event/juneteenth-celebration-and-ceremonies/
LOCATION:Sharon Hill Borough Hall\, 250 Sharon Avenue\, Sharon Hill\, PA\, 19079\, United States
CATEGORIES:Sharon Hill Art and Culture Commission,Sharon Hill Public Library
ATTACH;FMTTYPE=image/jpeg:https://sharonhillboro.com/wp-content/uploads/jtwkndfull.jpg
END:VEVENT
BEGIN:VEVENT
DTSTART;TZID=America/New_York:20230616T180000
DTEND;TZID=America/New_York:20230616T200000
DTSTAMP:20260425T122301
CREATED:20230602T154613Z
LAST-MODIFIED:20230612T125702Z
UID:3636-1686938400-1686945600@sharonhillboro.com
SUMMARY:Juneteenth Celebration: Movie and Game Night
DESCRIPTION:Presented by Sharon Hill Borough in partnership with the Sharon Hill Public Library and the Sharon Hill Art and Culture Commission \nMovie and Game Night at Sharon Hill Public Library\nFriday\, June 16\, 6 pm – 8 pm \n\nFeaturing a screening of The Wiz\nGames include Spades\, Dominoes and Uno\nSnacks and drinks available\n\n 
URL:https://sharonhillboro.com/event/juneteenth-celebration-movie-and-game-night/
LOCATION:Sharon Hill Public Library\, 246 Sharon Avenue\, Sharon Hill\, PA\, 19079\, United States
CATEGORIES:Sharon Hill Art and Culture Commission,Sharon Hill Public Library
ATTACH;FMTTYPE=image/jpeg:https://sharonhillboro.com/wp-content/uploads/jtwkndfull.jpg
END:VEVENT
BEGIN:VEVENT
DTSTART;TZID=America/New_York:20230429T120000
DTEND;TZID=America/New_York:20230429T160000
DTSTAMP:20260425T122301
CREATED:20230330T175954Z
LAST-MODIFIED:20230403T191637Z
UID:3394-1682769600-1682784000@sharonhillboro.com
SUMMARY:Good Friday Fish Fry
DESCRIPTION:
URL:https://sharonhillboro.com/event/good-friday-fish-fry/
LOCATION:Sharon Hill Public Library\, 246 Sharon Avenue\, Sharon Hill\, PA\, 19079\, United States
CATEGORIES:Sharon Hill Public Library
ATTACH;FMTTYPE=image/jpeg:https://sharonhillboro.com/wp-content/uploads/fffry-1.jpg
END:VEVENT
BEGIN:VEVENT
DTSTART;TZID=America/New_York:20230429T120000
DTEND;TZID=America/New_York:20230429T150000
DTSTAMP:20260425T122301
CREATED:20230330T183906Z
LAST-MODIFIED:20230330T183906Z
UID:3415-1682769600-1682780400@sharonhillboro.com
SUMMARY:Library Open House
DESCRIPTION:
URL:https://sharonhillboro.com/event/library-open-house/
LOCATION:Sharon Hill Public Library\, 246 Sharon Avenue\, Sharon Hill\, PA\, 19079\, United States
CATEGORIES:Sharon Hill Public Library
ATTACH;FMTTYPE=image/jpeg:https://sharonhillboro.com/wp-content/uploads/openhouselib.jpg
END:VEVENT
BEGIN:VEVENT
DTSTART;TZID=America/New_York:20230428T103000
DTEND;TZID=America/New_York:20230428T123000
DTSTAMP:20260425T122301
CREATED:20230330T193018Z
LAST-MODIFIED:20230330T193018Z
UID:3471-1682677800-1682685000@sharonhillboro.com
SUMMARY:Morning Movie: Forrest Gump
DESCRIPTION:
URL:https://sharonhillboro.com/event/morning-movie-forrest-gump/
LOCATION:Sharon Hill Public Library\, 246 Sharon Avenue\, Sharon Hill\, PA\, 19079\, United States
CATEGORIES:Sharon Hill Public Library
ATTACH;FMTTYPE=image/jpeg:https://sharonhillboro.com/wp-content/uploads/shpl_morningmovie.jpg
END:VEVENT
BEGIN:VEVENT
DTSTART;TZID=America/New_York:20230427T163000
DTEND;TZID=America/New_York:20230427T180000
DTSTAMP:20260425T122301
CREATED:20230330T191428Z
LAST-MODIFIED:20230330T191644Z
UID:3448-1682613000-1682618400@sharonhillboro.com
SUMMARY:Math Tutoring
DESCRIPTION:
URL:https://sharonhillboro.com/event/math-tutoring-april-27/
LOCATION:Sharon Hill Public Library\, 246 Sharon Avenue\, Sharon Hill\, PA\, 19079\, United States
CATEGORIES:Sharon Hill Public Library
ATTACH;FMTTYPE=image/jpeg:https://sharonhillboro.com/wp-content/uploads/Mathtutor.jpg
END:VEVENT
BEGIN:VEVENT
DTSTART;TZID=America/New_York:20230427T113000
DTEND;TZID=America/New_York:20230427T123000
DTSTAMP:20260425T122301
CREATED:20230330T193817Z
LAST-MODIFIED:20230330T193817Z
UID:3485-1682595000-1682598600@sharonhillboro.com
SUMMARY:Bingo for Seniors
DESCRIPTION:Bingo for Seniors – Every Thursday\, 11:30 AM – 12:30 PM \n610-586-3993 or sharonhill@delcolibraries.org
URL:https://sharonhillboro.com/event/bingo-4-27/
LOCATION:Sharon Hill Public Library\, 246 Sharon Avenue\, Sharon Hill\, PA\, 19079\, United States
CATEGORIES:Sharon Hill Public Library
ATTACH;FMTTYPE=image/jpeg:https://sharonhillboro.com/wp-content/uploads/bingoi.jpg
END:VEVENT
BEGIN:VEVENT
DTSTART;TZID=America/New_York:20230426T180000
DTEND;TZID=America/New_York:20230426T190000
DTSTAMP:20260425T122301
CREATED:20230330T190641Z
LAST-MODIFIED:20230330T190641Z
UID:3425-1682532000-1682535600@sharonhillboro.com
SUMMARY:Children's Story Hour - Nighttime
DESCRIPTION:
URL:https://sharonhillboro.com/event/childrens-story-hour-nighttime/
LOCATION:Sharon Hill Public Library\, 246 Sharon Avenue\, Sharon Hill\, PA\, 19079\, United States
CATEGORIES:Sharon Hill Public Library
ATTACH;FMTTYPE=image/jpeg:https://sharonhillboro.com/wp-content/uploads/nighttime-story.jpg
END:VEVENT
BEGIN:VEVENT
DTSTART;TZID=America/New_York:20230426T170000
DTEND;TZID=America/New_York:20230426T180000
DTSTAMP:20260425T122301
CREATED:20230330T183322Z
LAST-MODIFIED:20230330T183322Z
UID:3406-1682528400-1682532000@sharonhillboro.com
SUMMARY:Autism Awareness Workshop
DESCRIPTION:
URL:https://sharonhillboro.com/event/autism-awareness-workshop/
LOCATION:Sharon Hill Public Library\, 246 Sharon Avenue\, Sharon Hill\, PA\, 19079\, United States
CATEGORIES:Sharon Hill Public Library
ATTACH;FMTTYPE=image/jpeg:https://sharonhillboro.com/wp-content/uploads/autism.jpg
END:VEVENT
BEGIN:VEVENT
DTSTART;TZID=America/New_York:20230425T130000
DTEND;TZID=America/New_York:20230425T143000
DTSTAMP:20260425T122301
CREATED:20230330T180455Z
LAST-MODIFIED:20230330T180717Z
UID:3403-1682427600-1682433000@sharonhillboro.com
SUMMARY:Author Talk Series: Zenobia Lundy
DESCRIPTION:
URL:https://sharonhillboro.com/event/author-talk-series-zenobia-lundy/
LOCATION:Sharon Hill Public Library\, 246 Sharon Avenue\, Sharon Hill\, PA\, 19079\, United States
CATEGORIES:Sharon Hill Public Library
ATTACH;FMTTYPE=image/jpeg:https://sharonhillboro.com/wp-content/uploads/authtalk.jpg
END:VEVENT
BEGIN:VEVENT
DTSTART;TZID=America/New_York:20230424T130000
DTEND;TZID=America/New_York:20230424T140000
DTSTAMP:20260425T122301
CREATED:20230330T191901Z
LAST-MODIFIED:20230330T192414Z
UID:3464-1682341200-1682344800@sharonhillboro.com
SUMMARY:Library Card Drive
DESCRIPTION:
URL:https://sharonhillboro.com/event/library-card-drive/
LOCATION:Sharon Hill Public Library\, 246 Sharon Avenue\, Sharon Hill\, PA\, 19079\, United States
CATEGORIES:Sharon Hill Public Library
ATTACH;FMTTYPE=image/jpeg:https://sharonhillboro.com/wp-content/uploads/cardsignup.jpg
END:VEVENT
BEGIN:VEVENT
DTSTART;TZID=America/New_York:20230424T110000
DTEND;TZID=America/New_York:20230424T120000
DTSTAMP:20260425T122301
CREATED:20230330T191152Z
LAST-MODIFIED:20230330T191152Z
UID:3437-1682334000-1682337600@sharonhillboro.com
SUMMARY:Children's Story Time
DESCRIPTION:
URL:https://sharonhillboro.com/event/childrens-story-time-april-24/
LOCATION:Sharon Hill Public Library\, 246 Sharon Avenue\, Sharon Hill\, PA\, 19079\, United States
CATEGORIES:Sharon Hill Public Library
ATTACH;FMTTYPE=image/jpeg:https://sharonhillboro.com/wp-content/uploads/childstory.jpg
END:VEVENT
BEGIN:VEVENT
DTSTART;VALUE=DATE:20230424
DTEND;VALUE=DATE:20230430
DTSTAMP:20260425T122301
CREATED:20230330T193250Z
LAST-MODIFIED:20230330T193348Z
UID:3474-1682294400-1682812799@sharonhillboro.com
SUMMARY:National Library Week Events at Sharon Hill Public Library
DESCRIPTION:
URL:https://sharonhillboro.com/event/national-library-week-events-at-sharon-hill-public-library/
LOCATION:Sharon Hill Public Library\, 246 Sharon Avenue\, Sharon Hill\, PA\, 19079\, United States
CATEGORIES:Sharon Hill Public Library
ATTACH;FMTTYPE=image/jpeg:https://sharonhillboro.com/wp-content/uploads/natlibweek.jpg
END:VEVENT
BEGIN:VEVENT
DTSTART;TZID=America/New_York:20230420T163000
DTEND;TZID=America/New_York:20230420T180000
DTSTAMP:20260425T122301
CREATED:20230330T191428Z
LAST-MODIFIED:20230330T191622Z
UID:3447-1682008200-1682013600@sharonhillboro.com
SUMMARY:Math Tutoring
DESCRIPTION:
URL:https://sharonhillboro.com/event/math-tutoring-april-20/
LOCATION:Sharon Hill Public Library\, 246 Sharon Avenue\, Sharon Hill\, PA\, 19079\, United States
CATEGORIES:Sharon Hill Public Library
ATTACH;FMTTYPE=image/jpeg:https://sharonhillboro.com/wp-content/uploads/Mathtutor.jpg
END:VEVENT
BEGIN:VEVENT
DTSTART;TZID=America/New_York:20230420T113000
DTEND;TZID=America/New_York:20230420T123000
DTSTAMP:20260425T122301
CREATED:20230330T193748Z
LAST-MODIFIED:20230330T193753Z
UID:3484-1681990200-1681993800@sharonhillboro.com
SUMMARY:Bingo for Seniors
DESCRIPTION:Bingo for Seniors – Every Thursday\, 11:30 AM – 12:30 PM \n610-586-3993 or sharonhill@delcolibraries.org
URL:https://sharonhillboro.com/event/bingo-4-20/
LOCATION:Sharon Hill Public Library\, 246 Sharon Avenue\, Sharon Hill\, PA\, 19079\, United States
CATEGORIES:Sharon Hill Public Library
ATTACH;FMTTYPE=image/jpeg:https://sharonhillboro.com/wp-content/uploads/bingoi.jpg
END:VEVENT
BEGIN:VEVENT
DTSTART;TZID=America/New_York:20230418T170000
DTEND;TZID=America/New_York:20230418T180000
DTSTAMP:20260425T122301
CREATED:20230330T184119Z
LAST-MODIFIED:20230330T184335Z
UID:3419-1681837200-1681840800@sharonhillboro.com
SUMMARY:Cooking Club
DESCRIPTION:
URL:https://sharonhillboro.com/event/cooking-club-april-18/
LOCATION:Sharon Hill Public Library\, 246 Sharon Avenue\, Sharon Hill\, PA\, 19079\, United States
CATEGORIES:Sharon Hill Public Library
ATTACH;FMTTYPE=image/jpeg:https://sharonhillboro.com/wp-content/uploads/cookingclub.jpg
END:VEVENT
END:VCALENDAR