BEGIN:VCALENDAR
VERSION:2.0
PRODID:-//Sharon Hill Borough - ECPv6.15.20//NONSGML v1.0//EN
CALSCALE:GREGORIAN
METHOD:PUBLISH
X-WR-CALNAME:Sharon Hill Borough
X-ORIGINAL-URL:https://sharonhillboro.com
X-WR-CALDESC:Events for Sharon Hill Borough
REFRESH-INTERVAL;VALUE=DURATION:PT1H
X-Robots-Tag:noindex
X-PUBLISHED-TTL:PT1H
BEGIN:VTIMEZONE
TZID:America/New_York
BEGIN:DAYLIGHT
TZOFFSETFROM:-0500
TZOFFSETTO:-0400
TZNAME:EDT
DTSTART:20220313T070000
END:DAYLIGHT
BEGIN:STANDARD
TZOFFSETFROM:-0400
TZOFFSETTO:-0500
TZNAME:EST
DTSTART:20221106T060000
END:STANDARD
BEGIN:DAYLIGHT
TZOFFSETFROM:-0500
TZOFFSETTO:-0400
TZNAME:EDT
DTSTART:20230312T070000
END:DAYLIGHT
BEGIN:STANDARD
TZOFFSETFROM:-0400
TZOFFSETTO:-0500
TZNAME:EST
DTSTART:20231105T060000
END:STANDARD
BEGIN:DAYLIGHT
TZOFFSETFROM:-0500
TZOFFSETTO:-0400
TZNAME:EDT
DTSTART:20240310T070000
END:DAYLIGHT
BEGIN:STANDARD
TZOFFSETFROM:-0400
TZOFFSETTO:-0500
TZNAME:EST
DTSTART:20241103T060000
END:STANDARD
END:VTIMEZONE
BEGIN:VEVENT
DTSTART;TZID=America/New_York:20230224T103000
DTEND;TZID=America/New_York:20230224T123000
DTSTAMP:20260425T182930
CREATED:20230207T195714Z
LAST-MODIFIED:20230208T001029Z
UID:3102-1677234600-1677241800@sharonhillboro.com
SUMMARY:Morning Movie: Summer of Soul
DESCRIPTION:For more information\, please contact the library at 610 586-3993. \n 
URL:https://sharonhillboro.com/event/morning-movie-summer-of-soul/
LOCATION:Sharon Hill Public Library\, 246 Sharon Avenue\, Sharon Hill\, PA\, 19079\, United States
CATEGORIES:Sharon Hill Public Library
ATTACH;FMTTYPE=image/jpeg:https://sharonhillboro.com/wp-content/uploads/morningmovie.jpg
END:VEVENT
BEGIN:VEVENT
DTSTART;TZID=America/New_York:20230218T123000
DTEND;TZID=America/New_York:20230218T153000
DTSTAMP:20260425T182930
CREATED:20230214T151140Z
LAST-MODIFIED:20230214T151236Z
UID:3137-1676723400-1676734200@sharonhillboro.com
SUMMARY:To Be Young\, Gifted\, and Black History Celebration
DESCRIPTION:Sharon Hill Art & Culture Commission presents a collaboration with Sharon Hill Public Library: \nTO BE YOUNG\, GIFTED\, & BLACK HISTORY CELEBRATION\nDrumming – Dance – Poetry – Monologues – Art Exhibit\nfeaturing \nSISTAHS LAYING DOWN HANDS\nand friends honoring the legacy of Nina Simone  \nSATURDAY\, FEBRUARY 18\, 2023 – 12:30 pm to 3:30 pm\nUPSTAIRS AT SHARON HILL BOROUGH HALL\n250 Sharon Avenue -Sharon Hill\, PA 19079 \nAll are welcome!\nLight refreshments will be served. \n  \n \n  \n 
URL:https://sharonhillboro.com/event/to-be-young-gifted-and-black-history-celebration/
LOCATION:Sharon Hill Borough Hall\, 250 Sharon Avenue\, Sharon Hill\, PA\, 19079\, United States
CATEGORIES:Sharon Hill Art and Culture Commission,Sharon Hill Public Library
ATTACH;FMTTYPE=image/jpeg:https://sharonhillboro.com/wp-content/uploads/shaccshpl-event218.jpg
END:VEVENT
BEGIN:VEVENT
DTSTART;TZID=America/New_York:20230218T123000
DTEND;TZID=America/New_York:20230218T153000
DTSTAMP:20260425T182930
CREATED:20230208T115102Z
LAST-MODIFIED:20230208T115102Z
UID:3116-1676723400-1676734200@sharonhillboro.com
SUMMARY:African American Live Museum Showcase
DESCRIPTION:In honor of Black History Month\, join the Sharon Hill Public Library for an African American Live Museum Showcase on Saturday\, February 18 from 12:30-3:30 PM. \nThis showcasing will have numerous community members from all age groups portraying someone from the past and present. This program will be filled with Poetry\, Music\, Live Percussion\, Dance\, and more entertainment! \nFor more information\, please contact the library at 610 586-3993.
URL:https://sharonhillboro.com/event/african-american-live-museum-showcase/
LOCATION:Sharon Hill Public Library\, 246 Sharon Avenue\, Sharon Hill\, PA\, 19079\, United States
CATEGORIES:Sharon Hill Public Library
ATTACH;FMTTYPE=image/jpeg:https://sharonhillboro.com/wp-content/uploads/museum-showcase.jpg
END:VEVENT
BEGIN:VEVENT
DTSTART;TZID=America/New_York:20230215T180000
DTEND;TZID=America/New_York:20230215T200000
DTSTAMP:20260425T182930
CREATED:20230208T003146Z
LAST-MODIFIED:20230208T004533Z
UID:3106-1676484000-1676491200@sharonhillboro.com
SUMMARY:Trivia Night: Black History Month Edition
DESCRIPTION:Join the Sharon Hill Public Library on Wednesday\, February 15th\, 2023\, at 6 pm\nfor a night of black trivia and fun! Light refreshments will be served. \nFor more information\, please contact the library at 610 586-3993. \n 
URL:https://sharonhillboro.com/event/trivia-night-black-history-month-edition/
LOCATION:Sharon Hill Public Library\, 246 Sharon Avenue\, Sharon Hill\, PA\, 19079\, United States
CATEGORIES:Sharon Hill Public Library
ATTACH;FMTTYPE=image/jpeg:https://sharonhillboro.com/wp-content/uploads/trvianight.jpg
END:VEVENT
BEGIN:VEVENT
DTSTART;TZID=America/New_York:20230210T103000
DTEND;TZID=America/New_York:20230210T123000
DTSTAMP:20260425T182930
CREATED:20230208T130753Z
LAST-MODIFIED:20230208T130753Z
UID:3124-1676025000-1676032200@sharonhillboro.com
SUMMARY:Morning Movie: I Am Not Your Negro
DESCRIPTION:Join us on Friday\, February 10th for a Morning Movie (the 2016 documentary I Am Not Your Negro)  with Donuts and Coffee/Tea from 10:30 am-12:30 pm.\nFor ages 18 and older! \nSharon Hill Public Library\n246 Sharon Ave.\, Sharon Hill\, PA\, 19079 \nFOR MORE INFORMATION CONTACT THE LIBRARY at 610-586-3993 \n  \n  \n \n  \n 
URL:https://sharonhillboro.com/event/morning-movie-i-am-not-your-negro/
LOCATION:Sharon Hill Public Library\, 246 Sharon Avenue\, Sharon Hill\, PA\, 19079\, United States
CATEGORIES:Sharon Hill Public Library
ATTACH;FMTTYPE=image/jpeg:https://sharonhillboro.com/wp-content/uploads/movie.jpg
END:VEVENT
BEGIN:VEVENT
DTSTART;TZID=America/New_York:20230210T103000
DTEND;TZID=America/New_York:20230210T123000
DTSTAMP:20260425T182930
CREATED:20230208T122848Z
LAST-MODIFIED:20230208T122848Z
UID:3119-1676025000-1676032200@sharonhillboro.com
SUMMARY:Morning Movie
DESCRIPTION:Join us on Fridays\, February 10th and 24th for a Morning Movie with Donuts and Coffee/Tea from 10:30 am-12:30 pm.\nFor ages 18 and older! \nSharon Hill Public Library\n246 Sharon Ave.\, Sharon Hill\, PA\, 19079 \nFOR MORE INFORMATION CONTACT THE LIBRARY at 610-586-3993
URL:https://sharonhillboro.com/event/morning-movie-feb-10/
LOCATION:Sharon Hill Public Library\, 246 Sharon Avenue\, Sharon Hill\, PA\, 19079\, United States
CATEGORIES:Sharon Hill Public Library
ATTACH;FMTTYPE=image/jpeg:https://sharonhillboro.com/wp-content/uploads/movie.jpg
END:VEVENT
BEGIN:VEVENT
DTSTART;TZID=America/New_York:20230207T080000
DTEND;TZID=America/New_York:20230207T170000
DTSTAMP:20260425T182930
CREATED:20230207T195309Z
LAST-MODIFIED:20230207T195309Z
UID:3098-1675756800-1675789200@sharonhillboro.com
SUMMARY:Muhammad Ali Fights
DESCRIPTION:Join the Sharon Hill Public Library at 11 am on Friday\, February 17 to watch Muhammad Ali fights! \nFor more information\, please contact the library at 610 586-3993. \n \n 
URL:https://sharonhillboro.com/event/muhammad-ali-fights/
LOCATION:PA
CATEGORIES:Sharon Hill Public Library
ATTACH;FMTTYPE=image/jpeg:https://sharonhillboro.com/wp-content/uploads/alifight.jpg
END:VEVENT
END:VCALENDAR