BEGIN:VCALENDAR
VERSION:2.0
PRODID:-//Sharon Hill Borough - ECPv6.15.20//NONSGML v1.0//EN
CALSCALE:GREGORIAN
METHOD:PUBLISH
X-WR-CALNAME:Sharon Hill Borough
X-ORIGINAL-URL:https://sharonhillboro.com
X-WR-CALDESC:Events for Sharon Hill Borough
REFRESH-INTERVAL;VALUE=DURATION:PT1H
X-Robots-Tag:noindex
X-PUBLISHED-TTL:PT1H
BEGIN:VTIMEZONE
TZID:America/New_York
BEGIN:DAYLIGHT
TZOFFSETFROM:-0500
TZOFFSETTO:-0400
TZNAME:EDT
DTSTART:20200308T070000
END:DAYLIGHT
BEGIN:STANDARD
TZOFFSETFROM:-0400
TZOFFSETTO:-0500
TZNAME:EST
DTSTART:20201101T060000
END:STANDARD
BEGIN:DAYLIGHT
TZOFFSETFROM:-0500
TZOFFSETTO:-0400
TZNAME:EDT
DTSTART:20210314T070000
END:DAYLIGHT
BEGIN:STANDARD
TZOFFSETFROM:-0400
TZOFFSETTO:-0500
TZNAME:EST
DTSTART:20211107T060000
END:STANDARD
BEGIN:DAYLIGHT
TZOFFSETFROM:-0500
TZOFFSETTO:-0400
TZNAME:EDT
DTSTART:20220313T070000
END:DAYLIGHT
BEGIN:STANDARD
TZOFFSETFROM:-0400
TZOFFSETTO:-0500
TZNAME:EST
DTSTART:20221106T060000
END:STANDARD
END:VTIMEZONE
BEGIN:VEVENT
DTSTART;TZID=America/New_York:20210827T180000
DTEND;TZID=America/New_York:20210827T200000
DTSTAMP:20260424T054645
CREATED:20210617T153215Z
LAST-MODIFIED:20210617T155859Z
UID:1052-1630087200-1630094400@sharonhillboro.com
SUMMARY:Sharon Hill Summer Nights: Talent Showcase
DESCRIPTION:
URL:https://sharonhillboro.com/event/sharon-hill-summer-nights-talent-showcase/
LOCATION:Sharon Hill Memorial Park\, 116 Clifton Avenue\, Sharon Hill\, PA\, 19079\, United States
CATEGORIES:Sharon Hill Summer Nights 2021
ATTACH;FMTTYPE=image/jpeg:https://sharonhillboro.com/wp-content/uploads/shb-summer-nights.jpg
END:VEVENT
BEGIN:VEVENT
DTSTART;TZID=America/New_York:20210821T120000
DTEND;TZID=America/New_York:20210821T140000
DTSTAMP:20260424T054645
CREATED:20210617T152328Z
LAST-MODIFIED:20220915T145315Z
UID:1050-1629547200-1629554400@sharonhillboro.com
SUMMARY:Sharon Hill Borough Presents Culture Day
DESCRIPTION:Celebrate music\, heritage and culture in Memorial Park!
URL:https://sharonhillboro.com/event/sharon-hill-culture-day-2021/
LOCATION:Sharon Hill Memorial Park\, 116 Clifton Avenue\, Sharon Hill\, PA\, 19079\, United States
CATEGORIES:Sharon Hill Art and Culture Commission,Sharon Hill Summer Nights 2021
ATTACH;FMTTYPE=image/jpeg:https://sharonhillboro.com/wp-content/uploads/cday.jpg
END:VEVENT
BEGIN:VEVENT
DTSTART;TZID=America/New_York:20210813T180000
DTEND;TZID=America/New_York:20210813T200000
DTSTAMP:20260424T054645
CREATED:20210617T151944Z
LAST-MODIFIED:20210811T144559Z
UID:1048-1628877600-1628884800@sharonhillboro.com
SUMMARY:Sharon Hill Summer Nights: Motown Night
DESCRIPTION:Part of the Sharon Hill Summer Nights series:  \nFriday\, August 13 is Motown Night from 6:00-8:00 PM \nEnjoy a evening of Motown sounds on Friday\, July 13\, 2021 at Sharon Hill Memorial Park with featured singer Belinda Patrick from 7:00 pm. There will be a raffle and fun for all.  \nThis event is free and sponsored by Sharon Hill Borough in partnership with Sharon Hill Art & Culture Commission. Please bring your lawn chair.
URL:https://sharonhillboro.com/event/sharon-hill-summer-nights-motown-night/
LOCATION:Sharon Hill Memorial Park\, 116 Clifton Avenue\, Sharon Hill\, PA\, 19079\, United States
CATEGORIES:Sharon Hill Summer Nights 2021
ATTACH;FMTTYPE=image/jpeg:https://sharonhillboro.com/wp-content/uploads/motown.jpg
END:VEVENT
BEGIN:VEVENT
DTSTART;TZID=America/New_York:20210806T180000
DTEND;TZID=America/New_York:20210806T203000
DTSTAMP:20260424T054645
CREATED:20210617T151613Z
LAST-MODIFIED:20210805T143229Z
UID:1045-1628272800-1628281800@sharonhillboro.com
SUMMARY:Sharon Hill Summer Nights: Rock 'n Roll Night at Memorial Park
DESCRIPTION:
URL:https://sharonhillboro.com/event/sharon-hill-summer-nights-rock-n-roll-night/
LOCATION:Sharon Hill Memorial Park\, 116 Clifton Avenue\, Sharon Hill\, PA\, 19079\, United States
CATEGORIES:Sharon Hill Summer Nights 2021
ATTACH;FMTTYPE=image/jpeg:https://sharonhillboro.com/wp-content/uploads/shb-summer-nights.jpg
END:VEVENT
BEGIN:VEVENT
DTSTART;TZID=America/New_York:20210730T180000
DTEND;TZID=America/New_York:20210730T200000
DTSTAMP:20260424T054645
CREATED:20210617T155428Z
LAST-MODIFIED:20210727T191059Z
UID:1063-1627668000-1627675200@sharonhillboro.com
SUMMARY:Sharon Hill Summer Nights: Family Fun Night
DESCRIPTION:Includes a Kids Rock Hunt (rescheduled from postponed July 4th event.
URL:https://sharonhillboro.com/event/sharon-hill-summer-nights-family-fun-night/
LOCATION:Wiederwax Field\, 849 Elmwood Avenue\, Sharon Hill\, 19079
CATEGORIES:Sharon Hill Summer Nights 2021
END:VEVENT
BEGIN:VEVENT
DTSTART;TZID=America/New_York:20210723T203000
DTEND;TZID=America/New_York:20210723T223000
DTSTAMP:20260424T054645
CREATED:20210617T155338Z
LAST-MODIFIED:20210720T174034Z
UID:1059-1627072200-1627079400@sharonhillboro.com
SUMMARY:Sharon Hill Summer Nights: Movie Night
DESCRIPTION:
URL:https://sharonhillboro.com/event/sharon-hill-summer-nights-movie-night/
LOCATION:Wiederwax Field\, 849 Elmwood Avenue\, Sharon Hill\, 19079
CATEGORIES:Sharon Hill Summer Nights 2021
ATTACH;FMTTYPE=image/jpeg:https://sharonhillboro.com/wp-content/uploads/shb-summer-nights.jpg
END:VEVENT
END:VCALENDAR