BEGIN:VCALENDAR
VERSION:2.0
PRODID:-//Sharon Hill Borough - ECPv6.15.20//NONSGML v1.0//EN
CALSCALE:GREGORIAN
METHOD:PUBLISH
X-WR-CALNAME:Sharon Hill Borough
X-ORIGINAL-URL:https://sharonhillboro.com
X-WR-CALDESC:Events for Sharon Hill Borough
REFRESH-INTERVAL;VALUE=DURATION:PT1H
X-Robots-Tag:noindex
X-PUBLISHED-TTL:PT1H
BEGIN:VTIMEZONE
TZID:America/New_York
BEGIN:DAYLIGHT
TZOFFSETFROM:-0500
TZOFFSETTO:-0400
TZNAME:EDT
DTSTART:20220313T070000
END:DAYLIGHT
BEGIN:STANDARD
TZOFFSETFROM:-0400
TZOFFSETTO:-0500
TZNAME:EST
DTSTART:20221106T060000
END:STANDARD
BEGIN:DAYLIGHT
TZOFFSETFROM:-0500
TZOFFSETTO:-0400
TZNAME:EDT
DTSTART:20230312T070000
END:DAYLIGHT
BEGIN:STANDARD
TZOFFSETFROM:-0400
TZOFFSETTO:-0500
TZNAME:EST
DTSTART:20231105T060000
END:STANDARD
BEGIN:DAYLIGHT
TZOFFSETFROM:-0500
TZOFFSETTO:-0400
TZNAME:EDT
DTSTART:20240310T070000
END:DAYLIGHT
BEGIN:STANDARD
TZOFFSETFROM:-0400
TZOFFSETTO:-0500
TZNAME:EST
DTSTART:20241103T060000
END:STANDARD
END:VTIMEZONE
BEGIN:VEVENT
DTSTART;TZID=America/New_York:20230902T140000
DTEND;TZID=America/New_York:20230902T180000
DTSTAMP:20260421T211948
CREATED:20230803T193632Z
LAST-MODIFIED:20230803T193632Z
UID:3793-1693663200-1693677600@sharonhillboro.com
SUMMARY:Tap-In Teen Back-to-School Fair
DESCRIPTION:Sharon Hill Borough’s Junior Council presents a Back-to-School Fair at Sharon Hill Memorial Park from 2:00-6:00 pm on Saturday\, September 2. \nThe event will feature FREE school supplies\, raffles\, resource tables\, youth vendors\, food\, fun\, music and more!
URL:https://sharonhillboro.com/event/tap-in-teen-back-to-school-fair/
LOCATION:Sharon Hill Memorial Park\, 116 Clifton Avenue\, Sharon Hill\, PA\, 19079\, United States
ATTACH;FMTTYPE=image/jpeg:https://sharonhillboro.com/wp-content/uploads/tapinteen.jpg
END:VEVENT
BEGIN:VEVENT
DTSTART;TZID=America/New_York:20230908T190000
DTEND;TZID=America/New_York:20230908T213000
DTSTAMP:20260421T211948
CREATED:20230327T205117Z
LAST-MODIFIED:20230327T205117Z
UID:3351-1694199600-1694208600@sharonhillboro.com
SUMMARY:First Friday on the Hill - Open Mic
DESCRIPTION:Freeform Expressions of Art\npresented by Sharon Hill Arts & Cultural Commission \nEvery first Friday of the month – 7 PM – Upstairs at Borough Hall. \nFree Admission – Light Refreshments Served. \n \n  \n  \n  \n  \n 
URL:https://sharonhillboro.com/event/first-friday-on-the-hill-open-mic-sept23/
LOCATION:Sharon Hill Borough Hall\, 250 Sharon Avenue\, Sharon Hill\, PA\, 19079\, United States
CATEGORIES:Sharon Hill Art and Culture Commission
ATTACH;FMTTYPE=image/jpeg:https://sharonhillboro.com/wp-content/uploads/shacc-open-featured.jpg
END:VEVENT
BEGIN:VEVENT
DTSTART;TZID=America/New_York:20230910T130000
DTEND;TZID=America/New_York:20230910T170000
DTSTAMP:20260421T211948
CREATED:20230818T172029Z
LAST-MODIFIED:20230818T172335Z
UID:3869-1694350800-1694365200@sharonhillboro.com
SUMMARY:Sharon Hill Library's 85th Anniversary Gala
DESCRIPTION:The Friends of the Sharon Hill Public Library invite you to the library’s 85th Anniversary Gala taking place Sunday\, September 10\, 1 PM to 5 PM at the Oaks Ballroom in Glenolden. \nThe event will feature Mistress of Ceremony Leah Uko\, NBC10 reporter. \nProceeds benefit library initiatives. \nTickets: $55 adults; $25 children \nFor tickets\, please call or text 215-380-4870 \n 
URL:https://sharonhillboro.com/event/sharon-hill-librarys-85th-anniversary-gala/
LOCATION:Oaks Ballroom\, 511 W. Oak Lane\, Glenolden\, PA\, 19036\, United States
ATTACH;FMTTYPE=image/jpeg:https://sharonhillboro.com/wp-content/uploads/libgala.jpg
END:VEVENT
BEGIN:VEVENT
DTSTART;TZID=America/New_York:20230916T100000
DTEND;TZID=America/New_York:20230916T160000
DTSTAMP:20260421T211948
CREATED:20230327T212548Z
LAST-MODIFIED:20230906T131705Z
UID:3375-1694858400-1694880000@sharonhillboro.com
SUMMARY:Flea Market & Craft Fair at Sharon Hill Memorial Park - Live Music by the Karen Smith Experience
DESCRIPTION:presented by Sharon Hill Arts & Cultural Commission \nfeaturing free live music from Karen Smith Experience \nplus Face Painting by Kimberley Baskerville from Noon to 2 pm \nRain date: Third Sunday of the Month\n\nVendor Spaces (10′ x 10′ – must bring own table):$25 or two for $40\nFor information about reserving space contact Sharon Hill Borough at 610-586-8200\nor emall: Sharonhill.artandculture@gmail.com \nDownload vendor application\n  \n \n 
URL:https://sharonhillboro.com/event/flea-market-craft-fair-at-sharon-hill-memorial-park-sept23/
LOCATION:Sharon Hill Memorial Park\, 116 Clifton Avenue\, Sharon Hill\, PA\, 19079\, United States
CATEGORIES:Sharon Hill Borough Arts & Culture Commission Flea Market
ATTACH;FMTTYPE=image/jpeg:https://sharonhillboro.com/wp-content/uploads/flea-23.jpg
END:VEVENT
BEGIN:VEVENT
DTSTART;TZID=America/New_York:20230922T190000
DTEND;TZID=America/New_York:20230922T213000
DTSTAMP:20260421T211948
CREATED:20230915T123608Z
LAST-MODIFIED:20230915T123612Z
UID:3918-1695409200-1695418200@sharonhillboro.com
SUMMARY:Autumn Harvest Paint Night with Jose Sebourne
DESCRIPTION:Sharon Hill Art and Culture Commission presents Autumn Harvest Paint Night with Award-Winning Artist Jose Sebourne \nFriday\, September 22 — 7:00 pm to 9:30 pm \nUpstairs at Sharon Hall Fire Company\, 230 Sharon Avenue\, Sharon Hill\, PA 19079 \nFor more information please email sharonhill.artandculture@gmail.com \n \n  \n 
URL:https://sharonhillboro.com/event/autumn-harvest-paint-night-with-jose-sebourne/
LOCATION:Sharon Hill Fire Department\, 230 Sharon Avenue\, Sharon Hill\, PA\, 19079\, United States
CATEGORIES:Sharon Hill Art and Culture Commission
ATTACH;FMTTYPE=image/jpeg:https://sharonhillboro.com/wp-content/uploads/paintnightfall.jpg
END:VEVENT
BEGIN:VEVENT
DTSTART;TZID=America/New_York:20230927T180000
DTEND;TZID=America/New_York:20230927T190000
DTSTAMP:20260421T211948
CREATED:20230921T142222Z
LAST-MODIFIED:20230921T142241Z
UID:3926-1695837600-1695841200@sharonhillboro.com
SUMMARY:Free Mid-Week Yoga Classes
DESCRIPTION:Presented by Sharon Hill Art and Culture Commission \nFREE Wednesday Weekly Classes with Certified Yoga Instructor AUSET 4 YOGA\nSeptember 6 through October 11 \n*BRING YOUR YOGA MAT\n6pm – 7pm\n250 Sharon Ave\, Sharon Hill PA 19079
URL:https://sharonhillboro.com/event/free-mid-week-yoga-classes-9-27-23/
LOCATION:Sharon Hill Borough Hall\, 250 Sharon Avenue\, Sharon Hill\, PA\, 19079\, United States
CATEGORIES:Sharon Hill Art and Culture Commission
ATTACH;FMTTYPE=image/jpeg:https://sharonhillboro.com/wp-content/uploads/mwyoga.jpg
END:VEVENT
END:VCALENDAR