BEGIN:VCALENDAR
VERSION:2.0
PRODID:-//Sharon Hill Borough - ECPv6.15.20//NONSGML v1.0//EN
CALSCALE:GREGORIAN
METHOD:PUBLISH
X-WR-CALNAME:Sharon Hill Borough
X-ORIGINAL-URL:https://sharonhillboro.com
X-WR-CALDESC:Events for Sharon Hill Borough
REFRESH-INTERVAL;VALUE=DURATION:PT1H
X-Robots-Tag:noindex
X-PUBLISHED-TTL:PT1H
BEGIN:VTIMEZONE
TZID:America/New_York
BEGIN:DAYLIGHT
TZOFFSETFROM:-0500
TZOFFSETTO:-0400
TZNAME:EDT
DTSTART:20240310T070000
END:DAYLIGHT
BEGIN:STANDARD
TZOFFSETFROM:-0400
TZOFFSETTO:-0500
TZNAME:EST
DTSTART:20241103T060000
END:STANDARD
BEGIN:DAYLIGHT
TZOFFSETFROM:-0500
TZOFFSETTO:-0400
TZNAME:EDT
DTSTART:20250309T070000
END:DAYLIGHT
BEGIN:STANDARD
TZOFFSETFROM:-0400
TZOFFSETTO:-0500
TZNAME:EST
DTSTART:20251102T060000
END:STANDARD
BEGIN:DAYLIGHT
TZOFFSETFROM:-0500
TZOFFSETTO:-0400
TZNAME:EDT
DTSTART:20260308T070000
END:DAYLIGHT
BEGIN:STANDARD
TZOFFSETFROM:-0400
TZOFFSETTO:-0500
TZNAME:EST
DTSTART:20261101T060000
END:STANDARD
END:VTIMEZONE
BEGIN:VEVENT
DTSTART;TZID=America/New_York:20250802T090000
DTEND;TZID=America/New_York:20250802T140000
DTSTAMP:20260420T014923
CREATED:20250204T171136Z
LAST-MODIFIED:20250506T155931Z
UID:5470-1754125200-1754143200@sharonhillboro.com
SUMMARY:Flea Market & Craft Fair at Sharon Hill Memorial Park
DESCRIPTION:Sharon Hill Art & Culture Commission presents its 2025 Flea Markets and Craft Fairs taking place on the first Saturday of the month beginning on Saturday\, May 3. Additional markets will take place on June 7\, July 5\, August 2\, and September 6. \nMarkets are held at Sharon Hill Memorial Park and run from 9:00 am to 2:00 pm. Rain date for each month is on the following day. \nJazzy Mood DJ Steve Bivins of Phillyliveradio.com will broadcast each month from 11:00 am – 2:00 pm \nVENDORS WANTED: If you would like to be a vendor at an upcoming market\, please complete the vendor application. \nSpaces cost $25 for a 10′ x 10′ space; two for $40. \nMake check or money order payable to Sharon Hill Art and Culture Commission. For additional information please email sharonhill.artandculture@gmail.com. \n  \n 
URL:https://sharonhillboro.com/event/flea-market-craft-fair-at-sharon-hill-memorial-park-2025-august/
LOCATION:Sharon Hill Memorial Park\, 116 Clifton Avenue\, Sharon Hill\, PA\, 19079\, United States
CATEGORIES:Sharon Hill Art and Culture Commission,Sharon Hill Borough Arts & Culture Commission Flea Market
ATTACH;FMTTYPE=image/jpeg:https://sharonhillboro.com/wp-content/uploads/shacc25-crx.jpg
END:VEVENT
BEGIN:VEVENT
DTSTART;TZID=America/New_York:20250805T180000
DTEND;TZID=America/New_York:20250805T200000
DTSTAMP:20260420T014923
CREATED:20250718T134647Z
LAST-MODIFIED:20250718T134803Z
UID:5978-1754416800-1754424000@sharonhillboro.com
SUMMARY:National Night Out
DESCRIPTION:Sharon Hill Police Department invites residents to participate in the annual National Night Out event\, taking place Tuesday\, August 5\, from 6:00 – 8:00 PM\, in the parking lot of Academy Park High School. \nFamilies are welcome to stop by to experience: \n\nFun and Games\nFire Trucks and Police Cars\nGiveaways\nIce Cream\nSafety Tips\nMusic\n\nTogether\, we are making communities safer\, more caring places to live and work! \n  \n 
URL:https://sharonhillboro.com/event/national-night-out-2025/
LOCATION:Academy Park High School\, 300 Calcon Hook Road\, Sharon Hill\, PA\, 19079\, United States
ATTACH;FMTTYPE=image/jpeg:https://sharonhillboro.com/wp-content/uploads/no-flyer.jpg
END:VEVENT
BEGIN:VEVENT
DTSTART;TZID=America/New_York:20250813T170000
DTEND;TZID=America/New_York:20250813T190000
DTSTAMP:20260420T014923
CREATED:20250808T164757Z
LAST-MODIFIED:20250808T190805Z
UID:6052-1755104400-1755111600@sharonhillboro.com
SUMMARY:Open Office Hours with Council President Tanya Allen
DESCRIPTION:Open Office Hours with Borough Council President Tanya Allen\n\nPlease join Council President Allen on Wednesday\, August 13 from 5:00 pm to 7:00 pm at Sharon Hill Borough Hall Council Chambers. \nBring your questions\, concerns\, ideas\, and complaints\, or just come in so we can get to know you. \nCan’t make it? You can email President Allen with any questions. \n 
URL:https://sharonhillboro.com/event/open-office-hours-with-council-president-tanya-allen/
LOCATION:Sharon Hill Borough Hall\, 250 Sharon Avenue\, Sharon Hill\, PA\, 19079\, United States
ATTACH;FMTTYPE=image/jpeg:https://sharonhillboro.com/wp-content/uploads/OpenOffice-TA.jpg
END:VEVENT
BEGIN:VEVENT
DTSTART;TZID=America/New_York:20250816T130000
DTEND;TZID=America/New_York:20250816T160000
DTSTAMP:20260420T014923
CREATED:20250808T134115Z
LAST-MODIFIED:20250808T134137Z
UID:6046-1755349200-1755360000@sharonhillboro.com
SUMMARY:Bling it On Make & Take Workshop
DESCRIPTION:Sharon Hill Art & Culture Commission presents a “Bling it On” Make & Take facilitated by Crystal Dill. \nThe workshop takes place from 1 pm to 4 pm on Saturday\, August 16\, upstairs at Sharon Hill Borough Hall. \nSpace is limited and registration is required. \nPlease email your RSVP by Wednesday\, August 13 to sharonhill.artandculture@gmail.com. \n 
URL:https://sharonhillboro.com/event/bling-it-on-make-take-workshop/
LOCATION:Sharon Hill Borough Hall\, 250 Sharon Avenue\, Sharon Hill\, PA\, 19079\, United States
ATTACH;FMTTYPE=image/jpeg:https://sharonhillboro.com/wp-content/uploads/shacc_bling.jpg
END:VEVENT
BEGIN:VEVENT
DTSTART;TZID=America/New_York:20250823T130000
DTEND;TZID=America/New_York:20250823T190000
DTSTAMP:20260420T014923
CREATED:20250807T172747Z
LAST-MODIFIED:20250807T173051Z
UID:6038-1755954000-1755975600@sharonhillboro.com
SUMMARY:Jalen Duren Day
DESCRIPTION:Families are invited to head to Ramblers Field (250 Calcon Hook Road\, Sharon Hill\, PA 19079) on Saturday\, August 23 for Jalen Duren Day\, featuring: \n\nFree Rides\nMoonbounce\nGames\nMusic\nVendors\nFood Trucks\nWater Slides\nBalloon Artist\nand Much More\n\nKids Eat Free! \n 
URL:https://sharonhillboro.com/event/jalen-duren-day-2025/
LOCATION:Ramblers Field/Sports Complex\, Woodland Avenue and Barker Avenue\, Sharon Hill\, 19079\, United States
ATTACH;FMTTYPE=image/jpeg:https://sharonhillboro.com/wp-content/uploads/jdurenday.jpg
END:VEVENT
BEGIN:VEVENT
DTSTART;TZID=America/New_York:20250824T140000
DTEND;TZID=America/New_York:20250824T160000
DTSTAMP:20260420T014923
CREATED:20250820T104440Z
LAST-MODIFIED:20250820T104440Z
UID:6074-1756044000-1756051200@sharonhillboro.com
SUMMARY:Third Annual Fanta Bility Foundation Backpack & School Supplies Giveaway
DESCRIPTION:To commemorate the 4th anniversary of Fanta’s passing\, the Fanta Bility Foundation will be giving away backpacks filled with school supplies for children and families in need. \nSunday August 24\, 2025 – 2:00 PM\nSharon Hill Elementary School\n701 Coates Street\, Sharon Hill\, PA 19079\nPlease consider wearing Fanta’s favorite colors pink or purple. \nAll are welcome to attend. One backpack per child. Child must be present to receive backpack. \n  \n 
URL:https://sharonhillboro.com/event/third-annual-fanta-bility-foundation-backpack-school-supplies-giveaway/
LOCATION:Sharon Hill Elementary School\, Woodland Avenue and Barker Avenue\, Sharon Hill\, 19079\, United States
ATTACH;FMTTYPE=image/jpeg:https://sharonhillboro.com/wp-content/uploads/shbf.jpg
END:VEVENT
END:VCALENDAR