BEGIN:VCALENDAR
VERSION:2.0
PRODID:-//Sharon Hill Borough - ECPv6.15.20//NONSGML v1.0//EN
CALSCALE:GREGORIAN
METHOD:PUBLISH
X-ORIGINAL-URL:https://sharonhillboro.com
X-WR-CALDESC:Events for Sharon Hill Borough
REFRESH-INTERVAL;VALUE=DURATION:PT1H
X-Robots-Tag:noindex
X-PUBLISHED-TTL:PT1H
BEGIN:VTIMEZONE
TZID:America/New_York
BEGIN:DAYLIGHT
TZOFFSETFROM:-0500
TZOFFSETTO:-0400
TZNAME:EDT
DTSTART:20240310T070000
END:DAYLIGHT
BEGIN:STANDARD
TZOFFSETFROM:-0400
TZOFFSETTO:-0500
TZNAME:EST
DTSTART:20241103T060000
END:STANDARD
BEGIN:DAYLIGHT
TZOFFSETFROM:-0500
TZOFFSETTO:-0400
TZNAME:EDT
DTSTART:20250309T070000
END:DAYLIGHT
BEGIN:STANDARD
TZOFFSETFROM:-0400
TZOFFSETTO:-0500
TZNAME:EST
DTSTART:20251102T060000
END:STANDARD
BEGIN:DAYLIGHT
TZOFFSETFROM:-0500
TZOFFSETTO:-0400
TZNAME:EDT
DTSTART:20260308T070000
END:DAYLIGHT
BEGIN:STANDARD
TZOFFSETFROM:-0400
TZOFFSETTO:-0500
TZNAME:EST
DTSTART:20261101T060000
END:STANDARD
END:VTIMEZONE
BEGIN:VEVENT
DTSTART;TZID=America/New_York:20250906T090000
DTEND;TZID=America/New_York:20250906T150000
DTSTAMP:20260420T001600
CREATED:20250204T171448Z
LAST-MODIFIED:20250904T140155Z
UID:5472-1757149200-1757170800@sharonhillboro.com
SUMMARY:Flea Market & Craft Fair at Sharon Hill Memorial Park
DESCRIPTION:Sharon Hill Art & Culture Commission presents its 2025 Flea Markets and Craft Fairs taking place on the first Saturday of the month beginning on Saturday\, May 3. Additional markets will take place on June 7\, July 5\, August 2\, and September 6. \nMarkets are held at Sharon Hill Memorial Park and run from 9:00 am to 3:00 pm. Rain date for each month is on the following day. \nJazzy Mood DJ Steve Bivins of Phillyliveradio.com will broadcast each month from Noon – 2:00 pm \nVENDORS WANTED: If you would like to be a vendor at an upcoming market\, please complete the vendor application. \nSpaces cost $25 for a 10′ x 10′ space; two for $40. \nMake check or money order payable to Sharon Hill Art and Culture Commission. For additional information please email sharonhill.artandculture@gmail.com. \n  \n 
URL:https://sharonhillboro.com/event/flea-market-craft-fair-at-sharon-hill-memorial-park-2025-september/
LOCATION:Sharon Hill Memorial Park\, 116 Clifton Avenue\, Sharon Hill\, PA\, 19079\, United States
CATEGORIES:Sharon Hill Art and Culture Commission,Sharon Hill Borough Arts & Culture Commission Flea Market
ATTACH;FMTTYPE=image/jpeg:https://sharonhillboro.com/wp-content/uploads/SHACC-Flea-Market-Schedule-Sept-20025.jpg
END:VEVENT
BEGIN:VEVENT
DTSTART;TZID=America/New_York:20250913T130000
DTEND;TZID=America/New_York:20250913T153000
DTSTAMP:20260420T001600
CREATED:20250904T131109Z
LAST-MODIFIED:20250904T131109Z
UID:6136-1757768400-1757777400@sharonhillboro.com
SUMMARY:﻿﻿Pieces Of Me: A Puzzle Of Self Expression Make & Take
DESCRIPTION:Facilitated by WithloveFelecia Casher \nSaturday\, September 13\, 2025 \nUpstairs At Sharon Hill Borough Hall\n1:00pm – 3:30pm \nSHACC invites you to explore and express aspects of your identity. Using blank puzzle pieces\, adding photos\, art\, trinkets\, magazine clips\, poetry…\, as both a creative medium and metaphor. We will be creating puzzle pieces that reflect elements of who we are; culture\, values\, passions struggles & triumphs! As the pieces come together we will form a powerful visual representation of our unique selves! \n*SHACC encourages participants to bring items from home to decorate your puzzle pieces. \nLite Refreshments Served \nSpace is limited and registration is required. \nPlease email your RSVP by Wednesday\, September 10 to sharonhill.artandculture@gmail.com. \n 
URL:https://sharonhillboro.com/event/pieces-of-me-a-puzzle-of-self-expression-make-take/
LOCATION:Sharon Hill Borough Hall\, 250 Sharon Avenue\, Sharon Hill\, PA\, 19079\, United States
CATEGORIES:Sharon Hill Art and Culture Commission
ATTACH;FMTTYPE=image/jpeg:https://sharonhillboro.com/wp-content/uploads/pieces-flyer.jpg
END:VEVENT
BEGIN:VEVENT
DTSTART;TZID=America/New_York:20250917T180000
DTEND;TZID=America/New_York:20250917T190000
DTSTAMP:20260420T001600
CREATED:20250904T132330Z
LAST-MODIFIED:20250904T132330Z
UID:6144-1758132000-1758135600@sharonhillboro.com
SUMMARY:Mid-Week Jazz Pilates - Autumn Sessions
DESCRIPTION:Join Sharon Hill Art and Culture Commission for Mid-Week Jazz Pilates with instructor Trina Lyons \nWednesdays\, September 17 through October 22 \n6:00pm – 7:00pm \nUpstairs at Sharon Hill Borough Hall\n250 Sharon Ave\nFree for Sharon Hill Residents \n*BRING YOUR YOGA MAT
URL:https://sharonhillboro.com/event/mid-week-jazz-pilates-autumn-sessions/
LOCATION:Sharon Hill Borough Hall\, 250 Sharon Avenue\, Sharon Hill\, PA\, 19079\, United States
CATEGORIES:Sharon Hill Art and Culture Commission
ATTACH;FMTTYPE=image/jpeg:https://sharonhillboro.com/wp-content/uploads/SHACC-Jazz-Pilates-Fall-2025.jpg
END:VEVENT
BEGIN:VEVENT
DTSTART;TZID=America/New_York:20250920T140000
DTEND;TZID=America/New_York:20250920T160000
DTSTAMP:20260420T001600
CREATED:20250904T131636Z
LAST-MODIFIED:20250904T131636Z
UID:6140-1758376800-1758384000@sharonhillboro.com
SUMMARY:Sowing Authenticity: The Art of Reveal Fabric Art Fashion Show
DESCRIPTION:In collaboration with “In The Land of Sowing and Sewing” Author\, Essayist\, Poet\, Fiber Artist\, and Facilitator Debra Powell-Wright\, we will be celebrating fiber artworks by local needle arts creatives including Sisters Interacting Through Stitches\, Quilters of The Roundtable\, Pan-African Sisterhood Health Initiative (P.A.S.H.I.)\, Tomorrow’s Girls\, plus special guest word-weaver and fashionista\, Naa KoiKoi Aziza Zenzile Kebe. \nUpstairs at Sharon Hill Borough Hall\n250 Sharon Avenue Sharon Hill\, PA 19079 \nSaturday\, September 20 — 2:00pm – 4:00pm \nFREE! Space is limited; registration required! \nPlease email your RSVP to Sharonhill.artandculture@gmail.com by Wednesday\, September 17\, 2025 \n 
URL:https://sharonhillboro.com/event/sowing-authenticity-the-art-of-reveal-fabric-art-fashion-show/
LOCATION:Sharon Hill Borough Hall\, 250 Sharon Avenue\, Sharon Hill\, PA\, 19079\, United States
CATEGORIES:Sharon Hill Art and Culture Commission
ATTACH;FMTTYPE=image/jpeg:https://sharonhillboro.com/wp-content/uploads/sowing.jpg
END:VEVENT
BEGIN:VEVENT
DTSTART;TZID=America/New_York:20250924T180000
DTEND;TZID=America/New_York:20250924T190000
DTSTAMP:20260420T001600
CREATED:20250902T132330Z
LAST-MODIFIED:20250904T133116Z
UID:6147-1758736800-1758740400@sharonhillboro.com
SUMMARY:Mid-Week Jazz Pilates - Autumn Sessions
DESCRIPTION:Join Sharon Hill Art and Culture Commission for Mid-Week Jazz Pilates with instructor Trina Lyons \nWednesdays\, September 17 through October 22 \n6:00pm – 7:00pm \nUpstairs at Sharon Hill Borough Hall\n250 Sharon Ave\nFree for Sharon Hill Residents \n*BRING YOUR YOGA MAT
URL:https://sharonhillboro.com/event/mid-week-jazz-pilates-autumn-sessions-2/
LOCATION:Sharon Hill Borough Hall\, 250 Sharon Avenue\, Sharon Hill\, PA\, 19079\, United States
CATEGORIES:Sharon Hill Art and Culture Commission
ATTACH;FMTTYPE=image/jpeg:https://sharonhillboro.com/wp-content/uploads/SHACC-Jazz-Pilates-Fall-2025.jpg
END:VEVENT
END:VCALENDAR